BEGIN:VCALENDAR
PRODID:-//eluceo/ical//2.0/EN
VERSION:2.0
CALSCALE:GREGORIAN
BEGIN:VEVENT
UID:1512db7856dcdc4fbab9fce83f7f1c89
DTSTAMP:20260420T022715Z
SUMMARY:WILD & WIJN voor een nieuwe start
DESCRIPTION:Conférencier(s): Op dinsdag 4 november 2025 heeft Rotary Meche
 len het genoegen u uit te nodigen voor een exclusieve gastronomische belev
 ingsavond met topsommelier Gianluca Di Taranto (’t Zilte\, The Jane\, Le
  Grand Verre). Hij is wine director bij Sanglier des Ardennes en La Petite
  Merveille in Durbuy. Daarnaast behaalde hij de titel “Beste sommelier v
 an België 2019-2020”.Chef Arnout Desmedt (A Cook)\, één van de absolu
 te top private chefs in België\, werkte onder andere bij de Tuinkamer en 
 Centpourcent. Onlangs behaalde hij brons in de categorie ‘Event Catering
  Chef of the Year’ van Gault&Millau. Samen zorgen zij voor een avond vol
  uitmuntende wijnen en gastronomische verfijning.De opbrengst gaat integra
 al naar het Kinderkankerfonds\, een organisatie die gezinnen ondersteunt i
 n hun strijd tegen kinderkanker – een doel dat ons allen nauw aan het ha
 rt ligt.
URL:https://mechelen.rotary2140.org/fr/agenda/show/85984
DTSTART;TZID=Europe/Zurich:20251104T193000
DTEND;TZID=Europe/Zurich:20251104T220000
LOCATION:SALONS VAN DYCK\, Frederik de Merodestraat 33\, 2800 MECHELEN\, Be
 lgië
CATEGORIES:Rotary
END:VEVENT
BEGIN:VTIMEZONE
TZID:Europe/Zurich
BEGIN:STANDARD
DTSTART:20251104T193000
TZNAME:CET
TZOFFSETTO:+0100
TZOFFSETFROM:+0100
END:STANDARD
END:VTIMEZONE
END:VCALENDAR
